{"text_format":"1","workbook":"xlsx","n_sheets":1,"sheets":["Fleet 1"],"not_rendered":{"charts":0,"images":0,"macros":1,"external_links":0,"defined_names":1,"comments":1,"pivot_tables":0},"unopened":[],"bounds":{"document_bytes":16777216,"sheet_cells":100000,"rows_first":2000,"rows_last":500,"rows_between":2000,"halvings":0,"cell_chars":16384,"cell_head_chars":4096},"cells_cut":0,"cells_raw":0,"read":"whole","date_system":"1900"}

{"sheet":"Fleet 1","index":0,"n_rows":13,"n_cols":35,"rows_kept":13,"cut":false,"hidden":false,"merged":[[0,0,0,14],[1,0,1,14],[2,0,2,14],[2,19,2,21],[3,6,3,7],[3,8,3,9],[3,10,3,11]]}
["Blackwater Yacht Racing Association - 2015 Pub Race",null,null,null,null,null,null,null,null,null,null,null,null,null,null,null,null,null,null,null,null,null,null,null,null,"Test"]
["Date: Aug 8, 2015       PPYC to Mariner's Landing (6.57 n/miles) 8 to 10 knots variable          RC: Phillip",null,null,null,null,null,null,null,null,null,null,null,null,null,null,null,null,null,null,null,null,null,null,null,"new tcf =","should ="]
["Inverted Start",null,null,null,null,null,null,null,null,null,null,null,null,null,null,"Time","Time","Approx",null,"Finish Calculations",null,null,null,null,"Winner Adj Time","Winner Adj Time",null,null,"# of Boats"]
[null,null,null,null,null,null,"Handicap",null,"TCF",null,"Start Delay",null,"Calc(1)","Adj.(2)",null,"Behind","Behind","H'cap",null,"S for Spin",null,null,null,null,"/observed",null,null,null,{"$f":"MAX(AC6:AC20)","v":0}]
["Skipper","Boat Name","Initials","Guest?","Boat","Sail #","Spin*","Non-Spin*","Spin*","Non-Spin*","Min.","Sec.","Min.dd","Time","Place","Winner","Boat Ahead","to win",null,"N for non"]
["Maloney","Boogie Board",null,null,"J/24",1742,170,{"$f":"IFERROR(G6+15,\"\")","v":185},{"$f":"IF(T6 = \"s\",1000/(900+G6),\"\")","v":0.93457943925233644},{"$f":"IF(T6 =\"n\",1000/(900+H6),\"\")","v":""},14,14,{"$f":"IF(K6>0,(K6+L6/60)-#REF!,\" \")","v":{"$error":"#REF!"}},"122:32",1,null,null,{"$f":"IFERROR(ROUND((1000/Y6)-900,0),\"\")","v":""},null,"s",{"$f":"IFERROR(IF(M6>0,IF(T6=\"s\",M6*I6,0)+IF(T6=\"n\",M6*J6,0),\" \"),\"\")","v":""},{"$f":"IFERROR(RANK(N6,$N$6:$N$20,1),\"\")","v":""},null,null,{"$f":"IFERROR(#REF!/M6,\"\")","v":""},{"$f":"IFERROR(M6*Y6,\"\")","v":""},null,1,"","",null,null,null,55,39]
["Cliborne","Bandit",null,null,"J/24",2792,170,{"$f":"IFERROR(G7+15,\"\")","v":185},{"$f":"IF(T7 = \"s\",1000/(900+G7),\"\")","v":0.93457943925233644},{"$f":"IF(T7 =\"n\",1000/(900+H7),\"\")","v":""},14,14,{"$f":"IF(K7>0,(K7+L7/60)-#REF!,\" \")","v":{"$error":"#REF!"}},"128:13",2,null,"","",null,"s",{"$f":"IFERROR(IF(M7>0,IF(T7=\"s\",M7*I7,0)+IF(T7=\"n\",M7*J7,0),\" \"),\"\")","v":""},{"$f":"IFERROR(RANK(N7,$N$6:$N$20,1),\"\")","v":""},null,null,{"$f":"IFERROR(#REF!/M7,\"\")","v":""},{"$f":"IFERROR(M7*Y7,\"\")","v":""},null,2,"","","",null,null,56,22]
["Gietl"," ",null,null,"VX One",119,107,{"$f":"IFERROR(G8+15,\"\")","v":122},{"$f":"IF(T8 = \"s\",1000/(900+G8),\"\")","v":""},{"$f":"IF(T8 =\"n\",1000/(900+H8),\"\")","v":0.97847358121330719},19,29,{"$f":"IF(K8>0,(K8+L8/60)-#REF!,\" \")","v":{"$error":"#REF!"}},"147:04",3,null,"","",null,"n","","",null,null,{"$f":"IFERROR(#REF!/M8,\"\")","v":""},"",null,3,"","","",null,null,54,9]
["DeMestro","Little Wing",null,null,"Beneteau 29",485,168,{"$f":"IFERROR(G9+15,\"\")","v":183},{"$f":"IF(T9 = \"s\",1000/(900+G9),\"\")","v":""},{"$f":"IF(T9 =\"n\",1000/(900+H9),\"\")","v":0.92336103416435822},12,49,{"$f":"IF(K9>0,(K9+L9/60)-#REF!,\" \")","v":{"$error":"#REF!"}},"149:29",4,null,"","",null,"n","","",null,null,{"$f":"IFERROR(#REF!/M9,\"\")","v":""},"",null,4,"","","",null,null,62,59]
["Schraw","Second Wind",null,null,"Ericson 23",470,240,{"$f":"IFERROR(G10+15,\"\")","v":255},{"$f":"IF(T10 = \"s\",1000/(900+G10),\"\")","v":""},{"$f":"IF(T10 =\"n\",1000/(900+H10),\"\")","v":0.86580086580086579},4,55,{"$f":"IF(K10>0,(K10+L10/60)-#REF!,\" \")","v":{"$error":"#REF!"}},"150:31",5,null,"","",null,"n","","",null,null,{"$f":"IFERROR(#REF!/M10,\"\")","v":""},"",null,5,"","","",null,null,59,12]
["Hull","Fools Game",null,null,"Pearson 26",1183,215,230,"",0.88495575221238942,7,40,{"$f":"IF(K11>0,(K11+L11/60)-#REF!,\" \")","v":{"$error":"#REF!"}},"152:48",6,null,"","",null,"n","","",null,null,{"$f":"IFERROR(#REF!/M11,\"\")","v":""},"",null,6,"","","",null,null,56,58]
["Perdue","Miss Virginia",null,null,"Hunter 23.5",1309,241,{"$f":"IFERROR(G12+15,\"\")","v":256},"",0.86505190311418689,4,49,{"$f":"IF(K12>0,(K12+L12/60)-#REF!,\" \")","v":{"$error":"#REF!"}},"155:35",7,null,"","",null,"n","","",null,null,{"$f":"IFERROR(#REF!/M12,\"\")","v":""},"",null,7,"","","",null,null,64,47]
["Johnson","Felicite",null,null,"S-2 27 IB",null,{"$f":"188+6","v":194},{"$f":"IFERROR(G13+15,\"\")","v":209},"",0.90171325518485124,9,58,{"$f":"IF(K13>0,(K13+L13/60)-#REF!,\" \")","v":{"$error":"#REF!"}},"164:55",8,null,"","",null,"n","","",null,null,{"$f":"IFERROR(#REF!/M13,\"\")","v":""},"",null,8,"","",""]